BEGIN:VCALENDAR
VERSION:2.0
PRODID:-//Nok. Agder - ECPv6.15.20//NONSGML v1.0//EN
CALSCALE:GREGORIAN
METHOD:PUBLISH
X-WR-CALNAME:Nok. Agder
X-ORIGINAL-URL:https://nokagder.no
X-WR-CALDESC:Arrangement for Nok. Agder
REFRESH-INTERVAL;VALUE=DURATION:PT1H
X-Robots-Tag:noindex
X-PUBLISHED-TTL:PT1H
BEGIN:VTIMEZONE
TZID:Europe/Oslo
BEGIN:DAYLIGHT
TZOFFSETFROM:+0100
TZOFFSETTO:+0200
TZNAME:CEST
DTSTART:20240331T010000
END:DAYLIGHT
BEGIN:STANDARD
TZOFFSETFROM:+0200
TZOFFSETTO:+0100
TZNAME:CET
DTSTART:20241027T010000
END:STANDARD
BEGIN:DAYLIGHT
TZOFFSETFROM:+0100
TZOFFSETTO:+0200
TZNAME:CEST
DTSTART:20250330T010000
END:DAYLIGHT
BEGIN:STANDARD
TZOFFSETFROM:+0200
TZOFFSETTO:+0100
TZNAME:CET
DTSTART:20251026T010000
END:STANDARD
BEGIN:DAYLIGHT
TZOFFSETFROM:+0100
TZOFFSETTO:+0200
TZNAME:CEST
DTSTART:20260329T010000
END:DAYLIGHT
BEGIN:STANDARD
TZOFFSETFROM:+0200
TZOFFSETTO:+0100
TZNAME:CET
DTSTART:20261025T010000
END:STANDARD
END:VTIMEZONE
BEGIN:VEVENT
DTSTART;TZID=Europe/Oslo:20250219T170000
DTEND;TZID=Europe/Oslo:20250219T200000
DTSTAMP:20260425T162228
CREATED:20250205T062150Z
LAST-MODIFIED:20250205T062150Z
UID:4985-1739984400-1739995200@nokagder.no
SUMMARY:Møteplassen: Filmkveld
DESCRIPTION:Vi inviterer til en hyggelig og sosial kveld hos oss hvor vi viser filmen «Innsiden ut 2». Ta med deg det du vil ha av snacks\, vi serverer også noe hos oss. Påmelding gjøres til din veileder. Vel møtt!
URL:https://nokagder.no/arrangement/moteplassen-filmkveld/
LOCATION:Nok.Agder\, Markensgate 37\, Kristiansand\, Agder\, 4612\, Norge
END:VEVENT
END:VCALENDAR