BEGIN:VCALENDAR
VERSION:2.0
PRODID:-//Nok. Agder - ECPv6.15.17//NONSGML v1.0//EN
CALSCALE:GREGORIAN
METHOD:PUBLISH
X-WR-CALNAME:Nok. Agder
X-ORIGINAL-URL:https://nokagder.no
X-WR-CALDESC:Arrangement for Nok. Agder
REFRESH-INTERVAL;VALUE=DURATION:PT1H
X-Robots-Tag:noindex
X-PUBLISHED-TTL:PT1H
BEGIN:VTIMEZONE
TZID:Europe/Oslo
BEGIN:DAYLIGHT
TZOFFSETFROM:+0100
TZOFFSETTO:+0200
TZNAME:CEST
DTSTART:20240331T010000
END:DAYLIGHT
BEGIN:STANDARD
TZOFFSETFROM:+0200
TZOFFSETTO:+0100
TZNAME:CET
DTSTART:20241027T010000
END:STANDARD
BEGIN:DAYLIGHT
TZOFFSETFROM:+0100
TZOFFSETTO:+0200
TZNAME:CEST
DTSTART:20250330T010000
END:DAYLIGHT
BEGIN:STANDARD
TZOFFSETFROM:+0200
TZOFFSETTO:+0100
TZNAME:CET
DTSTART:20251026T010000
END:STANDARD
BEGIN:DAYLIGHT
TZOFFSETFROM:+0100
TZOFFSETTO:+0200
TZNAME:CEST
DTSTART:20260329T010000
END:DAYLIGHT
BEGIN:STANDARD
TZOFFSETFROM:+0200
TZOFFSETTO:+0100
TZNAME:CET
DTSTART:20261025T010000
END:STANDARD
END:VTIMEZONE
BEGIN:VEVENT
DTSTART;TZID=Europe/Oslo:20251015T170000
DTEND;TZID=Europe/Oslo:20251015T200000
DTSTAMP:20260421T020705
CREATED:20250829T082910Z
LAST-MODIFIED:20250829T082910Z
UID:5048-1760547600-1760558400@nokagder.no
SUMMARY:Møteplassen: Bingo
DESCRIPTION:Velkommen til en sosial og hyggelig kveld hos oss hvor vi kjører i gang med bingo med premier!
URL:https://nokagder.no/arrangement/moteplassen-bingo/
END:VEVENT
END:VCALENDAR