BEGIN:VCALENDAR
VERSION:2.0
PRODID:-//Nok. Agder - ECPv6.15.17//NONSGML v1.0//EN
CALSCALE:GREGORIAN
METHOD:PUBLISH
X-WR-CALNAME:Nok. Agder
X-ORIGINAL-URL:https://nokagder.no
X-WR-CALDESC:Arrangement for Nok. Agder
REFRESH-INTERVAL;VALUE=DURATION:PT1H
X-Robots-Tag:noindex
X-PUBLISHED-TTL:PT1H
BEGIN:VTIMEZONE
TZID:Europe/Oslo
BEGIN:DAYLIGHT
TZOFFSETFROM:+0100
TZOFFSETTO:+0200
TZNAME:CEST
DTSTART:20240331T010000
END:DAYLIGHT
BEGIN:STANDARD
TZOFFSETFROM:+0200
TZOFFSETTO:+0100
TZNAME:CET
DTSTART:20241027T010000
END:STANDARD
BEGIN:DAYLIGHT
TZOFFSETFROM:+0100
TZOFFSETTO:+0200
TZNAME:CEST
DTSTART:20250330T010000
END:DAYLIGHT
BEGIN:STANDARD
TZOFFSETFROM:+0200
TZOFFSETTO:+0100
TZNAME:CET
DTSTART:20251026T010000
END:STANDARD
BEGIN:DAYLIGHT
TZOFFSETFROM:+0100
TZOFFSETTO:+0200
TZNAME:CEST
DTSTART:20260329T010000
END:DAYLIGHT
BEGIN:STANDARD
TZOFFSETFROM:+0200
TZOFFSETTO:+0100
TZNAME:CET
DTSTART:20261025T010000
END:STANDARD
END:VTIMEZONE
BEGIN:VEVENT
DTSTART;TZID=Europe/Oslo:20250903T170000
DTEND;TZID=Europe/Oslo:20250903T200000
DTSTAMP:20260421T020655
CREATED:20250829T082623Z
LAST-MODIFIED:20250829T082623Z
UID:5043-1756918800-1756929600@nokagder.no
SUMMARY:Temakveld
DESCRIPTION:Vi inviterer til en sosial kveld med tema om menneskemøter: hvordan vi snakker både om og med hverandre. \nBli med på en trivelig kveld i lag hvor to av våre veiledere vil lede kvelden\, og invitere til en god dialog.
URL:https://nokagder.no/arrangement/temakveld/
END:VEVENT
BEGIN:VEVENT
DTSTART;TZID=Europe/Oslo:20250917T170000
DTEND;TZID=Europe/Oslo:20250917T200000
DTSTAMP:20260421T020655
CREATED:20250829T082814Z
LAST-MODIFIED:20250829T082814Z
UID:5046-1758128400-1758139200@nokagder.no
SUMMARY:Møteplassen: Dyreparken
DESCRIPTION:Vi ønsker å ta dere med til Dyreparken etter en vellykket kveld der i vår! Der får vi møte med ulike dyrearter sammen med dyrepasser. Omvisningen tar halvannen time. Etterpå tar vi en kaffe sammen på hotellet ved parken. Vi møtes kl. 17.00 ved Dyreparken hotell. \nMed forbehold om minimum 10 påmeldte – påmelding gjøres via din veileder. \n 
URL:https://nokagder.no/arrangement/moteplassen-dyreparken/
END:VEVENT
END:VCALENDAR