BEGIN:VCALENDAR
VERSION:2.0
PRODID:-//Nok. Agder - ECPv6.15.17//NONSGML v1.0//EN
CALSCALE:GREGORIAN
METHOD:PUBLISH
X-ORIGINAL-URL:https://nokagder.no
X-WR-CALDESC:Arrangement for Nok. Agder
REFRESH-INTERVAL;VALUE=DURATION:PT1H
X-Robots-Tag:noindex
X-PUBLISHED-TTL:PT1H
BEGIN:VTIMEZONE
TZID:Europe/Oslo
BEGIN:DAYLIGHT
TZOFFSETFROM:+0100
TZOFFSETTO:+0200
TZNAME:CEST
DTSTART:20240331T010000
END:DAYLIGHT
BEGIN:STANDARD
TZOFFSETFROM:+0200
TZOFFSETTO:+0100
TZNAME:CET
DTSTART:20241027T010000
END:STANDARD
BEGIN:DAYLIGHT
TZOFFSETFROM:+0100
TZOFFSETTO:+0200
TZNAME:CEST
DTSTART:20250330T010000
END:DAYLIGHT
BEGIN:STANDARD
TZOFFSETFROM:+0200
TZOFFSETTO:+0100
TZNAME:CET
DTSTART:20251026T010000
END:STANDARD
BEGIN:DAYLIGHT
TZOFFSETFROM:+0100
TZOFFSETTO:+0200
TZNAME:CEST
DTSTART:20260329T010000
END:DAYLIGHT
BEGIN:STANDARD
TZOFFSETFROM:+0200
TZOFFSETTO:+0100
TZNAME:CET
DTSTART:20261025T010000
END:STANDARD
END:VTIMEZONE
BEGIN:VEVENT
DTSTART;TZID=Europe/Oslo:20251104T120000
DTEND;TZID=Europe/Oslo:20251104T124500
DTSTAMP:20260421T002629
CREATED:20251023T111033Z
LAST-MODIFIED:20251023T111033Z
UID:5100-1762257600-1762260300@nokagder.no
SUMMARY:Badegruppe
DESCRIPTION:Kunne du tenke deg å starte dagen med et friskt sjøbad – året rundt? Vår badegruppe møtes ukentlig på tirsdager ved Bystranda. Deltakerne forteller om økt energi\, mestringsfølelse\, tilstedeværelse og mindre stress. I tillegg blir det alltid mye latter og fellesskap i vannet (og på land!). Kontakt Jorunn Kronborg for påmelding eller spørsmål på: 958 47 175.
URL:https://nokagder.no/arrangement/badegruppe-2/
END:VEVENT
BEGIN:VEVENT
DTSTART;TZID=Europe/Oslo:20251106T130000
DTEND;TZID=Europe/Oslo:20251106T153000
DTSTAMP:20260421T002629
CREATED:20251023T112118Z
LAST-MODIFIED:20251023T112415Z
UID:5123-1762434000-1762443000@nokagder.no
SUMMARY:Tegnegruppe
DESCRIPTION:Vil du utforske deg selv gjennom kreative uttrykk? I tegnegruppen jobber vi med ulike temaer som gir innsikt\, refleksjon og mulighet til å bli tryggere på å dele i en gruppe. Her får du øve deg på å være synlig\, og oppleve styrken ved å både gi og få tilbakemeldinger. En kortvarig\, men givende gruppeopplevelse. Gruppen har oppstart fra torsdag 9. oktober kl.13.00 – 15.30. De første 3 samlingene blir for brukere som ikke har deltatt på senterets tegnegruppe tidligere. Fra 30. oktober kan også tidligere deltakere bli med i gruppa. Påmelding gjøres via din veileder.
URL:https://nokagder.no/arrangement/tegnegruppe-5/
END:VEVENT
BEGIN:VEVENT
DTSTART;TZID=Europe/Oslo:20251111T120000
DTEND;TZID=Europe/Oslo:20251111T124500
DTSTAMP:20260421T002629
CREATED:20251023T111100Z
LAST-MODIFIED:20251023T111100Z
UID:5102-1762862400-1762865100@nokagder.no
SUMMARY:Badegruppe
DESCRIPTION:Kunne du tenke deg å starte dagen med et friskt sjøbad – året rundt? Vår badegruppe møtes ukentlig på tirsdager ved Bystranda. Deltakerne forteller om økt energi\, mestringsfølelse\, tilstedeværelse og mindre stress. I tillegg blir det alltid mye latter og fellesskap i vannet (og på land!). Kontakt Jorunn Kronborg for påmelding eller spørsmål på: 958 47 175.
URL:https://nokagder.no/arrangement/badegruppe-3/
END:VEVENT
BEGIN:VEVENT
DTSTART;TZID=Europe/Oslo:20251112T170000
DTEND;TZID=Europe/Oslo:20251112T200000
DTSTAMP:20260421T002629
CREATED:20250829T083150Z
LAST-MODIFIED:20250829T083150Z
UID:5054-1762966800-1762977600@nokagder.no
SUMMARY:Temakveld: tilknytning og traumer med Randi Skjævesland!
DESCRIPTION:Bli med på en utrolig spennende og lærerik temakveld! Vi har invitert Randi Skjævesland som har spisskompetanse innen blant annet traumer og sensimotorisk psykoterapi. Denne kvelden handler om å se på hva traumer er\, og hvordan skille det fra tilknytnings utfordringer. På temakveldene åpner vi dørene for både utsatte og pårørende. \nPåmelding gjøres via din veileder.
URL:https://nokagder.no/arrangement/temakveld-tilknytning-og-traumer-med-randi-skjaevesland/
END:VEVENT
BEGIN:VEVENT
DTSTART;TZID=Europe/Oslo:20251113T130000
DTEND;TZID=Europe/Oslo:20251113T153000
DTSTAMP:20260421T002629
CREATED:20251023T112151Z
LAST-MODIFIED:20251023T112453Z
UID:5125-1763038800-1763047800@nokagder.no
SUMMARY:Tegnegruppe
DESCRIPTION:Vil du utforske deg selv gjennom kreative uttrykk? I tegnegruppen jobber vi med ulike temaer som gir innsikt\, refleksjon og mulighet til å bli tryggere på å dele i en gruppe. Her får du øve deg på å være synlig\, og oppleve styrken ved å både gi og få tilbakemeldinger. En kortvarig\, men givende gruppeopplevelse. Gruppen har oppstart fra torsdag 9. oktober kl.13.00 – 15.30. De første 3 samlingene blir for brukere som ikke har deltatt på senterets tegnegruppe tidligere. Fra 30. oktober kan også tidligere deltakere bli med i gruppa. Påmelding gjøres via din veileder.
URL:https://nokagder.no/arrangement/tegnegruppe-6/
END:VEVENT
BEGIN:VEVENT
DTSTART;TZID=Europe/Oslo:20251118T120000
DTEND;TZID=Europe/Oslo:20251118T124500
DTSTAMP:20260421T002629
CREATED:20251023T111136Z
LAST-MODIFIED:20251023T111136Z
UID:5105-1763467200-1763469900@nokagder.no
SUMMARY:Badegruppe
DESCRIPTION:Kunne du tenke deg å starte dagen med et friskt sjøbad – året rundt? Vår badegruppe møtes ukentlig på tirsdager ved Bystranda. Deltakerne forteller om økt energi\, mestringsfølelse\, tilstedeværelse og mindre stress. I tillegg blir det alltid mye latter og fellesskap i vannet (og på land!). Kontakt Jorunn Kronborg for påmelding eller spørsmål på: 958 47 175.
URL:https://nokagder.no/arrangement/badegruppe-4/
END:VEVENT
BEGIN:VEVENT
DTSTART;TZID=Europe/Oslo:20251120T130000
DTEND;TZID=Europe/Oslo:20251120T153000
DTSTAMP:20260421T002629
CREATED:20251023T112245Z
LAST-MODIFIED:20251023T112245Z
UID:5127-1763643600-1763652600@nokagder.no
SUMMARY:Tegnegruppe
DESCRIPTION:Vil du utforske deg selv gjennom kreative uttrykk? I tegnegruppen jobber vi med ulike temaer som gir innsikt\, refleksjon og mulighet til å bli tryggere på å dele i en gruppe. Her får du øve deg på å være synlig\, og oppleve styrken ved å både gi og få tilbakemeldinger. En kortvarig\, men givende gruppeopplevelse. Gruppen har oppstart fra torsdag 9. oktober kl.13.00 – 15.30. De første 3 samlingene blir for brukere som ikke har deltatt på senterets tegnegruppe tidligere. Fra 30. oktober kan også tidligere deltakere bli med i gruppa. Påmelding gjøres via din veileder.
URL:https://nokagder.no/arrangement/tegnegruppe-7/
END:VEVENT
BEGIN:VEVENT
DTSTART;TZID=Europe/Oslo:20251125T120000
DTEND;TZID=Europe/Oslo:20251125T124500
DTSTAMP:20260421T002629
CREATED:20251023T111201Z
LAST-MODIFIED:20251023T111201Z
UID:5107-1764072000-1764074700@nokagder.no
SUMMARY:Badegruppe
DESCRIPTION:Kunne du tenke deg å starte dagen med et friskt sjøbad – året rundt? Vår badegruppe møtes ukentlig på tirsdager ved Bystranda. Deltakerne forteller om økt energi\, mestringsfølelse\, tilstedeværelse og mindre stress. I tillegg blir det alltid mye latter og fellesskap i vannet (og på land!). Kontakt Jorunn Kronborg for påmelding eller spørsmål på: 958 47 175.
URL:https://nokagder.no/arrangement/badegruppe-5/
END:VEVENT
BEGIN:VEVENT
DTSTART;TZID=Europe/Oslo:20251126T150000
DTEND;TZID=Europe/Oslo:20251126T170000
DTSTAMP:20260421T002629
CREATED:20251023T110616Z
LAST-MODIFIED:20251023T110616Z
UID:5092-1764169200-1764176400@nokagder.no
SUMMARY:Pårørende gruppe
DESCRIPTION:Er du en pårørende til en som har vært utsatt for seksuelle overgrep? Vi starter opp gruppetilbud for pårørende ved vårt senter i Kristiansand. Første gruppesamling er onsdag 26.11 kl. 15-17. Er du pårørende eller kjenner du noen som kunne tenke seg et gruppetilbud der du treffer andre i samme situasjon\, kan du ta kontakt med oss. Gruppelederne er terapeuter høy kompetanse og lang klinisk erfaring med denne målgruppen.
URL:https://nokagder.no/arrangement/parorende-gruppe/
END:VEVENT
BEGIN:VEVENT
DTSTART;TZID=Europe/Oslo:20251126T170000
DTEND;TZID=Europe/Oslo:20251126T200000
DTSTAMP:20260421T002629
CREATED:20250901T110032Z
LAST-MODIFIED:20250901T110032Z
UID:5080-1764176400-1764187200@nokagder.no
SUMMARY:Møteplassen: Juleverksted
DESCRIPTION:Julen nærmer seg\, og i tradisjonens tro inviterer vi til juleverksted hos oss. Vi lager julepynt\, og pynter pepperkake hjerter. \nVelkommen til en hyggelig førjuls kveld. Enkel bevertning! \n  \nMed forbehold om nok påmeldte – meld deg på via din veileder innen ei uke før arrangementet.
URL:https://nokagder.no/arrangement/moteplassen-juleverksted-2/
END:VEVENT
BEGIN:VEVENT
DTSTART;TZID=Europe/Oslo:20251127T130000
DTEND;TZID=Europe/Oslo:20251127T153000
DTSTAMP:20260421T002629
CREATED:20251023T112541Z
LAST-MODIFIED:20251023T112541Z
UID:5130-1764248400-1764257400@nokagder.no
SUMMARY:Tegnegruppe
DESCRIPTION:Vil du utforske deg selv gjennom kreative uttrykk? I tegnegruppen jobber vi med ulike temaer som gir innsikt\, refleksjon og mulighet til å bli tryggere på å dele i en gruppe. Her får du øve deg på å være synlig\, og oppleve styrken ved å både gi og få tilbakemeldinger. En kortvarig\, men givende gruppeopplevelse. Gruppen har oppstart fra torsdag 9. oktober kl.13.00 – 15.30. De første 3 samlingene blir for brukere som ikke har deltatt på senterets tegnegruppe tidligere. Fra 30. oktober kan også tidligere deltakere bli med i gruppa. Påmelding gjøres via din veileder.
URL:https://nokagder.no/arrangement/tegnegruppe-8/
END:VEVENT
END:VCALENDAR