BEGIN:VCALENDAR
VERSION:2.0
PRODID:-//Nok. Agder - ECPv6.15.17//NONSGML v1.0//EN
CALSCALE:GREGORIAN
METHOD:PUBLISH
X-ORIGINAL-URL:https://nokagder.no
X-WR-CALDESC:Arrangement for Nok. Agder
REFRESH-INTERVAL;VALUE=DURATION:PT1H
X-Robots-Tag:noindex
X-PUBLISHED-TTL:PT1H
BEGIN:VTIMEZONE
TZID:Europe/Oslo
BEGIN:DAYLIGHT
TZOFFSETFROM:+0100
TZOFFSETTO:+0200
TZNAME:CEST
DTSTART:20250330T010000
END:DAYLIGHT
BEGIN:STANDARD
TZOFFSETFROM:+0200
TZOFFSETTO:+0100
TZNAME:CET
DTSTART:20251026T010000
END:STANDARD
BEGIN:DAYLIGHT
TZOFFSETFROM:+0100
TZOFFSETTO:+0200
TZNAME:CEST
DTSTART:20260329T010000
END:DAYLIGHT
BEGIN:STANDARD
TZOFFSETFROM:+0200
TZOFFSETTO:+0100
TZNAME:CET
DTSTART:20261025T010000
END:STANDARD
BEGIN:DAYLIGHT
TZOFFSETFROM:+0100
TZOFFSETTO:+0200
TZNAME:CEST
DTSTART:20270328T010000
END:DAYLIGHT
BEGIN:STANDARD
TZOFFSETFROM:+0200
TZOFFSETTO:+0100
TZNAME:CET
DTSTART:20271031T010000
END:STANDARD
END:VTIMEZONE
BEGIN:VEVENT
DTSTART;TZID=Europe/Oslo:20260107T080000
DTEND;TZID=Europe/Oslo:20260107T170000
DTSTAMP:20260420T174843
CREATED:20251023T110925Z
LAST-MODIFIED:20251023T110925Z
UID:5098-1767772800-1767805200@nokagder.no
SUMMARY:Pårørende gruppe
DESCRIPTION:Er du en pårørende til en som har vært utsatt for seksuelle overgrep? Vi starter opp gruppetilbud for pårørende ved vårt senter i Kristiansand. Første gruppesamling er onsdag 26.11 kl. 15-17\, og går over fem ganger. Ta kontakt med oss for påmelding\, og eventuelt mer informasjon.
URL:https://nokagder.no/arrangement/parorende-gruppe-3/
END:VEVENT
BEGIN:VEVENT
DTSTART;TZID=Europe/Oslo:20260107T170000
DTEND;TZID=Europe/Oslo:20260107T200000
DTSTAMP:20260420T174843
CREATED:20251218T080748Z
LAST-MODIFIED:20251218T080748Z
UID:5133-1767805200-1767816000@nokagder.no
SUMMARY:Oppstart av Møteplassen
DESCRIPTION:Vi starter året med en sosial og hyggelig kveld hvor vi serverer pizza fra Peppes. Det blir også en gjennomgang av regler for Møteplassen.
URL:https://nokagder.no/arrangement/oppstart-av-moteplassen/
END:VEVENT
BEGIN:VEVENT
DTSTART;TZID=Europe/Oslo:20260121T170000
DTEND;TZID=Europe/Oslo:20260121T200000
DTSTAMP:20260420T174843
CREATED:20251218T081011Z
LAST-MODIFIED:20251218T081011Z
UID:5135-1769014800-1769025600@nokagder.no
SUMMARY:Temakveld: Randi Skjævesland om tilknytning
DESCRIPTION:Bli med på en spennende og lærerik temakveld! Vi har invitert Randi Skjævesland som har spisskompetanse innen blant annet traumer og sensimotorisk psykoterapi. Vi tar denne kvelden et dypere dykk inn i tilknytning – hvordan kan vi forstå vår egen tilknytning\, og hvordan påvirker det relasjonene våre. \n  \nPåmelding gjøres innen en uke før via din veileder. På denne kvelden har vi et forbehold om minimum 10 stk. Du vil få beskjed om eventuell avlysning.
URL:https://nokagder.no/arrangement/temakveld-randi-skjaevesland-om-tilknytning/
END:VEVENT
END:VCALENDAR